BEGIN:VCALENDAR
VERSION:2.0
PRODID:-//Haus der Kulturen und Religionen München - ECPv6.15.20//NONSGML v1.0//EN
CALSCALE:GREGORIAN
METHOD:PUBLISH
X-ORIGINAL-URL:https://hdkrm.org
X-WR-CALDESC:Veranstaltungen für Haus der Kulturen und Religionen München
REFRESH-INTERVAL;VALUE=DURATION:PT1H
X-Robots-Tag:noindex
X-PUBLISHED-TTL:PT1H
BEGIN:VTIMEZONE
TZID:Europe/Berlin
BEGIN:DAYLIGHT
TZOFFSETFROM:+0100
TZOFFSETTO:+0200
TZNAME:CEST
DTSTART:20250330T010000
END:DAYLIGHT
BEGIN:STANDARD
TZOFFSETFROM:+0200
TZOFFSETTO:+0100
TZNAME:CET
DTSTART:20251026T010000
END:STANDARD
BEGIN:DAYLIGHT
TZOFFSETFROM:+0100
TZOFFSETTO:+0200
TZNAME:CEST
DTSTART:20260329T010000
END:DAYLIGHT
BEGIN:STANDARD
TZOFFSETFROM:+0200
TZOFFSETTO:+0100
TZNAME:CET
DTSTART:20261025T010000
END:STANDARD
BEGIN:DAYLIGHT
TZOFFSETFROM:+0100
TZOFFSETTO:+0200
TZNAME:CEST
DTSTART:20270328T010000
END:DAYLIGHT
BEGIN:STANDARD
TZOFFSETFROM:+0200
TZOFFSETTO:+0100
TZNAME:CET
DTSTART:20271031T010000
END:STANDARD
END:VTIMEZONE
BEGIN:VEVENT
DTSTART;TZID=Europe/Berlin:20260428T193000
DTEND;TZID=Europe/Berlin:20260428T210000
DTSTAMP:20260423T183337
CREATED:20260210T204714Z
LAST-MODIFIED:20260328T141940Z
UID:6662-1777404600-1777410000@hdkrm.org
SUMMARY:Charakter stärken - Gemeinsam  für ein friedliches Miteinander
DESCRIPTION: Mehr Gelassenheit\, Mut oder Freude im Alltag?\nDas Haus der Kulturen und Religionen München e.V. lädt dich herzlich ein\, deine inneren Stärken zu entfalten und gleichzeitig das friedliche Zusammenleben in unserer vielfältigen Gesellschaft zu fördern.\nDu entdeckst die transformierende Kraft universeller Qualitäten wie beispielsweise Achtsamkeit\, Mitgefühl\, Güte\, Begeisterung\, Wertschätzung. Diese Stärken helfen dir\, neue Perspektiven zu gewinnen\, Vorurteile abzubauen und mit dir selbst und anderen Menschen wertschätzender\,\nverständnisvoller und friedvoller umzugehen. \n Was erwartet dich?\nJeder Abend beginnt mit dem Lesen einer sogenannten Tugendkarte\, die eine Charakterstärke anschaulich beschreibt. Gemeinsam entdecken wir\, wie diese Qualität dich persönlich stärken und unser Miteinander bereichern kann. Im offenen Austausch erhältst du ermutigende Impulse\, wie du dich selbst und andere unabhängig von Herkunft\, Religion oder Lebensweise unterstützen kannst. \nDie Abende sind für alle Menschen offen – egal\, welcher Kultur\, Religion oder Lebenssituation du angehörst. Gute Deutschkenntnisse sind förderlich (mindestens A2) \n� Komm vorbei\, tanke Kraft und erlebe\, wie kleine Veränderungen nicht nur dein Leben\, sondern auch das Zusammenleben in unserer Gesellschaft bereichern können. \n� Ort: Hugo-Troendle-Straße 53\, 80992 München-Moosach (Eingang Diakonie Atrium / zum Souterrain)\n� Termine: Dienstag\, 19:30 – 21:00 Uhr:\n14.\, 21. und 28. April sowie 5. und 12. Mai 2026 \n Teilnahme: Kostenfrei\, du kannst auch einzelne Abende besuchen.\nUm Anmeldung per Mail oder Telefon spätestens bis zum Vortag wird gebeten. \n Kontakt:\nBeate Bruckmann\, Virtues Facilitator\n� www.virtuesproject.works\n beate.bruckmann@gmail.com\n�� 0151 17226705\nFalls du Fragen hast\, kontaktiere mich gerne.
URL:https://hdkrm.org/veranstaltung/charakter-staerken-gemeinsam-fuer-ein-friedliches-miteinander-8/
LOCATION:Diakonie München-Moosach\, Hugo-Troendle-Straße 53\, München\, 80992
CATEGORIES:Veranstaltungen des Hauses der Kulturen und Religionen München e.V.
ATTACH;FMTTYPE=image/jpeg:https://hdkrm.org/wordpress/wp-content/uploads/2021/06/web-banner-hdkrm.jpg
ORGANIZER;CN="Haus der Kulturen und Religionen M%C3%BCnchen e.V.":MAILTO:info@hdkrm.org
END:VEVENT
BEGIN:VEVENT
DTSTART;TZID=Europe/Berlin:20260505T193000
DTEND;TZID=Europe/Berlin:20260505T210000
DTSTAMP:20260423T183337
CREATED:20260210T204840Z
LAST-MODIFIED:20260328T142024Z
UID:6665-1778009400-1778014800@hdkrm.org
SUMMARY:Charakter stärken - Gemeinsam  für ein friedliches Miteinander
DESCRIPTION: Mehr Gelassenheit\, Mut oder Freude im Alltag?\nDas Haus der Kulturen und Religionen München e.V. lädt dich herzlich ein\, deine inneren Stärken zu entfalten und gleichzeitig das friedliche Zusammenleben in unserer vielfältigen Gesellschaft zu fördern.\nDu entdeckst die transformierende Kraft universeller Qualitäten wie beispielsweise Achtsamkeit\, Mitgefühl\, Güte\, Begeisterung\, Wertschätzung. Diese Stärken helfen dir\, neue Perspektiven zu gewinnen\, Vorurteile abzubauen und mit dir selbst und anderen Menschen wertschätzender\,\nverständnisvoller und friedvoller umzugehen. \n Was erwartet dich?\nJeder Abend beginnt mit dem Lesen einer sogenannten Tugendkarte\, die eine Charakterstärke anschaulich beschreibt. Gemeinsam entdecken wir\, wie diese Qualität dich persönlich stärken und unser Miteinander bereichern kann. Im offenen Austausch erhältst du ermutigende Impulse\, wie du dich selbst und andere unabhängig von Herkunft\, Religion oder Lebensweise unterstützen kannst. \nDie Abende sind für alle Menschen offen – egal\, welcher Kultur\, Religion oder Lebenssituation du angehörst. Gute Deutschkenntnisse sind förderlich (mindestens A2) \n� Komm vorbei\, tanke Kraft und erlebe\, wie kleine Veränderungen nicht nur dein Leben\, sondern auch das Zusammenleben in unserer Gesellschaft bereichern können. \n� Ort: Hugo-Troendle-Straße 53\, 80992 München-Moosach (Eingang Diakonie Atrium / zum Souterrain)\n� Termine: Dienstag\, 19:30 – 21:00 Uhr:\n14.\, 21. und 28. April sowie 5. und 12. Mai 2026 \n Teilnahme: Kostenfrei\, du kannst auch einzelne Abende besuchen.\nUm Anmeldung per Mail oder Telefon spätestens bis zum Vortag wird gebeten. \n Kontakt:\nBeate Bruckmann\, Virtues Facilitator\n� www.virtuesproject.works\n beate.bruckmann@gmail.com\n�� 0151 17226705\nFalls du Fragen hast\, kontaktiere mich gerne.
URL:https://hdkrm.org/veranstaltung/charakter-staerken-gemeinsam-fuer-ein-friedliches-miteinander-9/
LOCATION:Diakonie München-Moosach\, Hugo-Troendle-Straße 53\, München\, 80992
CATEGORIES:Veranstaltungen des Hauses der Kulturen und Religionen München e.V.
ATTACH;FMTTYPE=image/jpeg:https://hdkrm.org/wordpress/wp-content/uploads/2021/06/web-banner-hdkrm.jpg
ORGANIZER;CN="Haus der Kulturen und Religionen M%C3%BCnchen e.V.":MAILTO:info@hdkrm.org
END:VEVENT
BEGIN:VEVENT
DTSTART;TZID=Europe/Berlin:20260512T193000
DTEND;TZID=Europe/Berlin:20260512T210000
DTSTAMP:20260423T183337
CREATED:20260210T204955Z
LAST-MODIFIED:20260328T142110Z
UID:6667-1778614200-1778619600@hdkrm.org
SUMMARY:Charakter stärken - Gemeinsam  für ein friedliches Miteinander
DESCRIPTION: Mehr Gelassenheit\, Mut oder Freude im Alltag?\nDas Haus der Kulturen und Religionen München e.V. lädt dich herzlich ein\, deine inneren Stärken zu entfalten und gleichzeitig das friedliche Zusammenleben in unserer vielfältigen Gesellschaft zu fördern.\nDu entdeckst die transformierende Kraft universeller Qualitäten wie beispielsweise Achtsamkeit\, Mitgefühl\, Güte\, Begeisterung\, Wertschätzung. Diese Stärken helfen dir\, neue Perspektiven zu gewinnen\, Vorurteile abzubauen und mit dir selbst und anderen Menschen wertschätzender\,\nverständnisvoller und friedvoller umzugehen. \n Was erwartet dich?\nJeder Abend beginnt mit dem Lesen einer sogenannten Tugendkarte\, die eine Charakterstärke anschaulich beschreibt. Gemeinsam entdecken wir\, wie diese Qualität dich persönlich stärken und unser Miteinander bereichern kann. Im offenen Austausch erhältst du ermutigende Impulse\, wie du dich selbst und andere unabhängig von Herkunft\, Religion oder Lebensweise unterstützen kannst. \nDie Abende sind für alle Menschen offen – egal\, welcher Kultur\, Religion oder Lebenssituation du angehörst. Gute Deutschkenntnisse sind förderlich (mindestens A2) \n� Komm vorbei\, tanke Kraft und erlebe\, wie kleine Veränderungen nicht nur dein Leben\, sondern auch das Zusammenleben in unserer Gesellschaft bereichern können. \n� Ort: Hugo-Troendle-Straße 53\, 80992 München-Moosach (Eingang Diakonie Atrium / zum Souterrain)\n� Termine: Dienstag\, 19:30 – 21:00 Uhr:\n14.\, 21. und 28. April sowie 5. und 12. Mai 2026 \n Teilnahme: Kostenfrei\, du kannst auch einzelne Abende besuchen.\nUm Anmeldung per Mail oder Telefon spätestens bis zum Vortag wird gebeten. \n Kontakt:\nBeate Bruckmann\, Virtues Facilitator\n� www.virtuesproject.works\n beate.bruckmann@gmail.com\n�� 0151 17226705\nFalls du Fragen hast\, kontaktiere mich gerne.
URL:https://hdkrm.org/veranstaltung/charakter-staerken-gemeinsam-fuer-ein-friedliches-miteinander-10/
LOCATION:Diakonie München-Moosach\, Hugo-Troendle-Straße 53\, München\, 80992
CATEGORIES:Veranstaltungen des Hauses der Kulturen und Religionen München e.V.
ATTACH;FMTTYPE=image/jpeg:https://hdkrm.org/wordpress/wp-content/uploads/2021/06/web-banner-hdkrm.jpg
ORGANIZER;CN="Haus der Kulturen und Religionen M%C3%BCnchen e.V.":MAILTO:info@hdkrm.org
END:VEVENT
BEGIN:VEVENT
DTSTART;TZID=Europe/Berlin:20260523T180000
DTEND;TZID=Europe/Berlin:20260523T200000
DTSTAMP:20260423T183337
CREATED:20260123T160615Z
LAST-MODIFIED:20260226T184119Z
UID:6599-1779559200-1779566400@hdkrm.org
SUMMARY:MUSICA SACRA INTERNATIONAL
DESCRIPTION:„Scriptural Reasoning mit Interreligiösem Dialogimpuls“\nfür Musica Sacra International \n\n\n\n\n\n\n\n\n\n\n\n\n\n\n\n\n\n\n\n\n\n\n\n\n\n\n\n\n\n\n\n\n\n\n\n\n\n\n\n\n\n\n\n\n\nInterreligiöser Kurs:\nScriptural Reasoning mit interreligiösem DialogimpulsMusica Sacra International 2026 bringt Musiker*innen aus unterschiedlichen Religionen zusammen. Über Pfingsten vom 22. bis 26. Mai sind unter dem Motto „Resonanzen des Heiligen“ eine Vielzahl an Konzerten mit hochkarätigen internationalen Ensembles in Marktoberdorf\, Augsburg\, Kempten und anderen Orten im Allgäu zu erleben\, erstmals auch in München. Der Festivalchor bringt Sänger*innen in der Erarbeitung u. a. eines interreligiösen Werkes zusammen.In München wird vor dem Konzert am 23. Mai auch ein multireligiöses Gebet gestaltet. In dessen Zentrum steht ein interreligiöser Dialogimpuls\, der mit einer Gruppe von Menschen unterschiedlicher religiöser Beheimatung im Vorfeld entwickelt wird. \nHast Du Lust dabei zu sein? \nWir treffen uns in einer gemischtreligiösen Gruppe von maximal 12 Teilnehmer:innen zur Vorbereitung online an vier Abenden. Wir arbeiten mit einer Weiterentwicklung der Methode Scriptural Reasoning. Dabei wird ausgehend von Texten aus der Tradition der beteiligten Religionen miteinander ein Thema bearbeitet. Aus diesem Gespräch entsteht ein Dialogimpuls\, der dann noch einmal gemeinsam reflektiert wird. Dieser kommt bei der religionsverbindenden Feier zur „Aufführung“ und wird umrahmt mit Gebeten aus den einzelnen Religionen.\n\n\n\n\n\n\n\n\n\n\n\n\n\n\n\n\n\n\nAngeleitet werden wir dabei von Alexandra Morath (Theologin und Religionswissenschaftlerin München/Salzburg). Sie arbeitet seit vielen Jahren mit multireligiösen Gruppen und hat die Methode um den Dialogimpuls und vertiefende Reflexion erweitert. \nZur Teilnahme am Kurs sind keine vertieften theologischen Vorkenntnisse notwendig\, wohl aber die Bereitschaft\, die eigenen religiösen Verortungen und Erfahrungen in das Gespräch einzubringen und sich auf die Perspektiven der Mitteilnehmenden einzulassen. Der Kurs eignet sich auch für Multiplikator*innen der interreligiösen Begegnung\, die die Methode kennenlernen und später selbst in ihren Kontexten anwenden möchten. \nJeweils 19.00 Uhr bis 21.00 Uhr\, online \nMi\, 15.04.            Kennenlernen / Methode / Thema + Texte suchen \nMi\, 22.04.            Scriptural Reasoning \nMi\, 06.05.            Reflexion Entwurf Dialogimpuls \nMi\, 20.05.            Vorbereitung der Religionsverbindenden Feier \nReligionsverbindende Feier „Resonanzen des Heiligen“ \nSamstag\, 23.05.2026\, 18 – 20 Uhr\nHerz-Jesu-Kirche\, Lachnerstr. 8\, München \nim Anschluss\, um 20 Uhr\, findet ein Konzert mit Kol Kore (Judentum / Deutschland) und Polifonija (Christentum / Litauen) am selben Ort statt. \n\n\n\n\n\n\n\n\n\n\n\n\nAnmeldung zur gemeinsamen Vorbereitung: Scriptural Reasoning mit Dialogimpuls\n\n\n\n\n\n\n\n\n\n\n\n\n\n\nInformationen\, Tickets und Anmeldung zum Festivalchor\n\n\n\n\n\n\n\n\n\n\n\n\n\n\n\n\n\n\n\n\n\nDer Vorbereitungskurs und die Feier ist eine Kooperation der Beauftragten für interreligiösen Dialog der Evangelisch-Lutherischen Kirche in Bayern\, dem Referat für interreligiösen Dialog des Erzbistums München und Freising und dem Haus der Kulturen und Religionen München e.V. mit dem Musica Sacra Festival International.
URL:https://hdkrm.org/veranstaltung/musica-sacra-international/
LOCATION:Herz Jesu Kirche\, Lachnerstraße 8\, München\, 80639\, Germany
CATEGORIES:Sonstige Veranstaltungen
ATTACH;FMTTYPE=image/png:https://hdkrm.org/wordpress/wp-content/uploads/2026/01/Musica-Sacra-International.avif
ORGANIZER;CN="MODfestivals e.V.":MAILTO:office@modfestivals.org
END:VEVENT
BEGIN:VEVENT
DTSTART;TZID=Europe/Berlin:20260604T120000
DTEND;TZID=Europe/Berlin:20260604T190000
DTSTAMP:20260423T183337
CREATED:20251121T212958Z
LAST-MODIFIED:20251228T191937Z
UID:6500-1780574400-1780599600@hdkrm.org
SUMMARY:Tagung Häuser der Religionen: "Raum und Dialog"
DESCRIPTION:Alle zwei Jahre kommen die europäischen Häuser der Religionen zu einer Tagung zusammen\, um den interreligiösen Dialog und den Austausch über nationale Grenzen hinweg zu fördern. Im Jahr 2026 wird das Haus der Kulturen und Religionen München e.V. Gastgeber dieser bedeutenden Veranstaltung sein und Vertreter*innen aus ganz Europa in München willkommen heißen.\nDiese Tagungen sind von zentraler Bedeutung\, um sich über die Herausforderungen und Erfolge vergleichbarer Projekte auszutauschen\, voneinander zu lernen und gemeinsam neue Wege für eine friedliche und integrative Gesellschaft zu entwickeln. Sie bieten eine einzigartige Plattform\, um Erfahrungen zu teilen\, Inspiration zu gewinnen und den interreligiösen Dialog in Europa weiter voranzubringen. \nWeitere Informationen finden Sie hier: Tagungsseite
URL:https://hdkrm.org/veranstaltung/tagung-haeuser-der-religionen-raum-und-dialog/
LOCATION:Katholische Akademie in Bayern\, Mandlstraße 23\, München\, 80802
CATEGORIES:Veranstaltungen des Hauses der Kulturen und Religionen München e.V.
ATTACH;FMTTYPE=image/jpeg:https://hdkrm.org/wordpress/wp-content/uploads/2021/06/web-banner-hdkrm.jpg
ORGANIZER;CN="Haus der Kulturen und Religionen M%C3%BCnchen e.V.":MAILTO:info@hdkrm.org
END:VEVENT
BEGIN:VEVENT
DTSTART;TZID=Europe/Berlin:20260605T100000
DTEND;TZID=Europe/Berlin:20260605T180000
DTSTAMP:20260423T183337
CREATED:20251121T213222Z
LAST-MODIFIED:20260311T133030Z
UID:6503-1780653600-1780682400@hdkrm.org
SUMMARY:Tagung Häuser der Religionen: "Raum und Dialog"
DESCRIPTION:Alle zwei Jahre kommen die europäischen Häuser der Religionen zu einer Tagung zusammen\, um den interreligiösen Dialog und den Austausch über nationale Grenzen hinweg zu fördern. Im Jahr 2026 wird das Haus der Kulturen und Religionen München e.V. Gastgeber dieser bedeutenden Veranstaltung sein und Vertreter*innen aus ganz Europa in München willkommen heißen.\nDiese Tagungen sind von zentraler Bedeutung\, um sich über die Herausforderungen und Erfolge vergleichbarer Projekte auszutauschen\, voneinander zu lernen und gemeinsam neue Wege für eine friedliche und integrative Gesellschaft zu entwickeln. Sie bieten eine einzigartige Plattform\, um Erfahrungen zu teilen\, Inspiration zu gewinnen und den interreligiösen Dialog in Europa weiter voranzubringen.\nWeitere Informationen finden Sie hier: Tagungsseite
URL:https://hdkrm.org/veranstaltung/tagung-haeuser-der-religionen-raum-und-dialog-2/
LOCATION:Katholische Akademie in Bayern\, Mandlstraße 23\, München\, 80802
CATEGORIES:Veranstaltungen des Hauses der Kulturen und Religionen München e.V.
ATTACH;FMTTYPE=image/jpeg:https://hdkrm.org/wordpress/wp-content/uploads/2021/06/web-banner-hdkrm.jpg
ORGANIZER;CN="Haus der Kulturen und Religionen M%C3%BCnchen e.V.":MAILTO:info@hdkrm.org
END:VEVENT
BEGIN:VEVENT
DTSTART;TZID=Europe/Berlin:20260605T200000
DTEND;TZID=Europe/Berlin:20260605T220000
DTSTAMP:20260423T183337
CREATED:20260325T103533Z
LAST-MODIFIED:20260325T103533Z
UID:6738-1780689600-1780696800@hdkrm.org
SUMMARY:Hosh Neva: Heilige Musik - Raum & Dialog
DESCRIPTION:Die Sufi-Musik-Gruppe Hosh Neva\, mitbegründet von Mehmet Ungan und Ali Ungan\, tritt regelmäßig bei interkulturellen und interreligiösen Veranstaltungen in ganz Europa auf. Ihr Repertoire umfasst Lieder aus verschiedenen Sufi-Traditionen Zentralasiens\, darunter die Bektashi- und die Mevlevi-Tradition. \n\nNeben ihrer künstlerischen Tätigkeit sind beide Musiker als Dozenten an der Musikakademie Mannheim tätig und engagieren sich im heilpädagogischen sowie musikpädagogischen Bereich. Für sie bildet die Mystik eine wesentliche Brücke zwischen den verschiedenen Religionen. \nBeginn: 20:00 Uhr (Einlass 19:30 Uhr)\, Eintritt: 20 €\nVeranstalter: Haus der Kulturen und Religionen München e.V. in Kooperation mit dem\nErzbischöflichen Ordinariat München und der Georges Anawati Stiftung
URL:https://hdkrm.org/veranstaltung/hosh-neva-heilige-musik-raum-dialog/
LOCATION:Ehemalige Karmeliterkirche\, Karmeliterstr. 1\, München\, 80333
CATEGORIES:Veranstaltungen des Hauses der Kulturen und Religionen München e.V.
ATTACH;FMTTYPE=image/jpeg:https://hdkrm.org/wordpress/wp-content/uploads/2021/06/web-banner-hdkrm.jpg
ORGANIZER;CN="Haus der Kulturen und Religionen M%C3%BCnchen e.V.":MAILTO:info@hdkrm.org
END:VEVENT
BEGIN:VEVENT
DTSTART;TZID=Europe/Berlin:20260911T093000
DTEND;TZID=Europe/Berlin:20260913T170000
DTSTAMP:20260423T183337
CREATED:20260224T192206Z
LAST-MODIFIED:20260224T192158Z
UID:6322-1789119000-1789318800@hdkrm.org
SUMMARY:QUERFELDEIN Interreligiöse Pilgertage
DESCRIPTION:Für Mensch und Erde\n \nMiteinander unterwegs auf unterschiedlichen Wegen zu Gott oder dem Transzendenten. Gemeinsam achtsam durch und mit der Natur. Vielleicht lassen sich so unsere Wege beschreiben.\nIn diesem Jahr gehen wir einen Teil des EDEN Pilgerwegs Chiemgau & Rupertiwinkel. Die erste Station wird am Campus St. Michael in Traunstein sein. Von dort gehen wir weiter nach Maria Eck. Am Samstag führt uns der Weg nach Inzell. Spirituelle Impulse verschiedener Religionen werden uns begleiten. \nWir gehen ca. 15 km pro Tag und tragen unser Gepäck selbst. \nVeranstalter: Erzbischöfliches Ordinariat München\, Referat Pilgern und Wallfahrten\, in Kooperation mit dem Haus der Kulturen und Religionen München e.V. sowie dem EDEN Pilgerweg Chiemgau & Rupertiwinkel \nWeitere Informationen und Anmeldeadresse:\nEOM Flyer Querfeldein – Interreligiöse Pilgertage_September 2026 \n 
URL:https://hdkrm.org/veranstaltung/querfeldein-interreligioese-pilgertage/
LOCATION:Campus St. Michael\, Vonfichtstraße 1\, Traunstein\, 83278
ATTACH;FMTTYPE=image/jpeg:https://hdkrm.org/wordpress/wp-content/uploads/2021/06/web-banner-hdkrm.jpg
ORGANIZER;CN="Haus der Kulturen und Religionen M%C3%BCnchen e.V.":MAILTO:info@hdkrm.org
END:VEVENT
BEGIN:VEVENT
DTSTART;TZID=Europe/Berlin:20260916T190000
DTEND;TZID=Europe/Berlin:20260916T210000
DTSTAMP:20260423T183337
CREATED:20260402T104421Z
LAST-MODIFIED:20260402T104421Z
UID:6755-1789585200-1789592400@hdkrm.org
SUMMARY:Nymphenburger Gespräche: Wege zum Miteinander
DESCRIPTION:Ein interreligiöser Abend zum Thema Versöhnung und Vergebung\nSchuldgefühle können belasten und verlangen nach Auflösung. Doch sich nach einem Streit oder einer nicht mehr zu ändernden Tat zu versöhnen\, ist alles andere als leicht. Auch die Religionen kennen dies und finden unterschiedliche Wege\, mit Schuld und Versöhnung umzugehen. Wir sprechen mit Vertreter*innen der abrahamitischen Religionen über ihre Sicht auf das Thema und welche Wege die Religionen dafür bereithalten. Es diskutieren gemeinsam: \nDr. Barbara Hepp\, Theologin\, Evangelische Stadtakademie München\nGönül Yerli\, Islamische Gemeinde Penzberg\nMichaela Rychlá M.A.\, Lehrerin für jüdische Religionslehre und Buchautorin\nModeration: Dr. Robert Mucha (MVHS) \nEine Veranstaltung des Kooperationsprogramms Nymphenburger Gespräche (Evangelische Stadtakademie München\, Fachbereich Dialog der Religionen im Erzbischöflichen Ordinariat\, Freunde Abrahams e.V.\, Idizem e.V.\, Liberale Jüdische Gemeinde Beth Shalom\, Münchner Volkshochschule) in Zusammenarbeit mit Kultur im Trafo. \nKosten: 9\,00 €
URL:https://hdkrm.org/veranstaltung/nymphenburger-gespraeche-wege-zum-miteinander/
LOCATION:Kultur im Trafo\, Nymphenburger Str. 171a\, München\, 80634
CATEGORIES:Sonstige Veranstaltungen
ATTACH;FMTTYPE=image/png:https://hdkrm.org/wordpress/wp-content/uploads/2026/04/Logo_der_Nymphenburger_Gespraeche.png
ORGANIZER;CN="Freunde Abrahams - Gesellschaft f%C3%BCr Religionsgeschichte und interreligi%C3%B6sen Dialog e.V.":MAILTO:info@freunde-abrahams.de
END:VEVENT
END:VCALENDAR